View In:
ArcGIS JavaScript
ArcGIS Online Map Viewer
ArcGIS Earth
Service Description: Calumet_County_1992_Orthophoto
Name: Calumet_County_1992_Orthophoto
Description:
Single Fused Map Cache: true
Tile Info:
- Height: 256
- Width: 256
- DPI: 96
-
Levels of Detail: 11
- Format: MIXED
- Compression Quality: 75.0
- LERC Error: NaN
- Origin: X: -1.76461E7
Y: 1.7292199999999993E7
- Spatial Reference: 0
(0)
LatestVCSWkid(0)
Storage Info:
- Storage Format: esriMapCacheStorageModeCompactV2
- Packet Size: 128
Extent:
XMin: 818514.7189929846
YMin: 420391.4580656026
XMax: 935587.4414854866
YMax: 559089.3710070153
Spatial Reference: 0
(0)
LatestVCSWkid(0)
Initial Extent:
XMin: 818514.7189929846
YMin: 420391.4580656026
XMax: 935587.4414854866
YMax: 559089.3710070153
Spatial Reference: 0
(0)
LatestVCSWkid(0)
Full Extent:
XMin: 818514.7189929846
YMin: 420391.4580656026
XMax: 935587.4414854866
YMax: 559089.3710070153
Spatial Reference: 0
(0)
LatestVCSWkid(0)
Pixel Size X: 3.282014030795379
Pixel Size Y: 3.2820140307953802
Band Count: 3
Pixel Type: U8
RasterFunction Infos: {"rasterFunctionInfos": [{
"name": "None",
"description": "",
"help": ""
}]}
Mensuration Capabilities: Basic
Inspection Capabilities:
Has Histograms: true
Has Colormap: false
Has Multi Dimensions : false
Rendering Rule:
Min Scale: 250000
Max Scale: 250
Min LOD: 0
Max LOD: 10
Copyright Text:
Service Data Type: esriImageServiceDataTypeRGB
Min Values: 0, 0, 0
Max Values: 255, 255, 255
Mean Values: 105.93090334032, 105.93090334032, 105.93090334032
Standard Deviation Values: 54.066630468361, 54.066630468361, 54.066630468361
Object ID Field:
Fields:
None
Default Mosaic Method: Center
Allowed Mosaic Methods:
SortField:
SortValue: null
Mosaic Operator: First
Default Compression Quality: 75
Default Resampling Method: Bicubic
Max Record Count: null
Max Image Height: 4100
Max Image Width: 15000
Max Download Image Count: null
Max Mosaic Image Count: null
Allow Raster Function: true
Allow Copy: false
Allow Analysis: false
Allow Compute TiePoints: false
Supports Statistics: false
Supports Advanced Queries: false
Use StandardizedQueries: true
Raster Type Infos:
Name: Raster Dataset
Description: Supports all ArcGIS Raster Datasets
Help:
Has Raster Attribute Table: false
Edit Fields Info: null
Ownership Based AccessControl For Rasters: null
Child Resources:
Info
Histograms
Statistics
Key Properties
Legend
Raster Function Infos
Supported Operations:
Export Image
Identify
Measure
Compute Histograms
Compute Statistics Histograms
Get Samples
Compute Class Statistics
Query Boundary
Compute Pixel Location
Compute Angles
Validate
Project