{
 "currentVersion": 11.3,
 "serviceDescription": "Ayres Associates provided Calumet County with digital, 4-band orthoimagery services in 2018 as part of WROC. The aerial imagery was collected on May 5th, 13th, 15th and 16th using a Leica Geosystems ADS100 sensor mounted in a fixed-wing aircraft. Aerial imagery was collected to support 0.5 foot ground sample distance (GSD) orthoimagery to meet ASPRS Class II horizontal accuracy specifications at 1\"=100' map scale. The 6-inch pixel orthoimagery was producced to meet or exceed a horizontal accuracy of 1.4 feet RMSE according to ASPRS Positional Accuracy Standards for Digital Geospatial Data, 2014. Resultant orthoimagery was rectified to a DEM surface created from existing QL2 LiDAR data acquired in 2018. Orthoimagery was delivered in PLSS section GeoTiff and MrSID tiles and a project-wide MrSID mosaic. The orthoimagery was delivered according to a section tile schematic. Supplemental Information: The Wisconsin Regional Orthoimagery Consortium (WROC) is a multi-entity group of county members and partners led by representatives from Ayres Associates the North Central Wisconsin Regional Planning Commission (NCWRPC). The goal of the consortium is to build and sustain a multi-participant program to acquire digital orthoimagery and elevation data throughout Wisconsin. Orthoimagery was collected for Calumet County in 2018 to provide consistent deliverable products and accuracy standards for each of the participating entities.",
 "name": "Calumet_County_2018_Orthophoto",
 "description": "Ayres Associates provided Calumet County with digital, 4-band orthoimagery services in 2018 as part of WROC. The aerial imagery was collected on May 5th, 13th, 15th and 16th using a Leica Geosystems ADS100 sensor mounted in a fixed-wing aircraft. Aerial imagery was collected to support 0.5 foot ground sample distance (GSD) orthoimagery to meet ASPRS Class II horizontal accuracy specifications at 1\"=100' map scale. The 6-inch pixel orthoimagery was producced to meet or exceed a horizontal accuracy of 1.4 feet RMSE according to ASPRS Positional Accuracy Standards for Digital Geospatial Data, 2014. Resultant orthoimagery was rectified to a DEM surface created from existing QL2 LiDAR data acquired in 2018. Orthoimagery was delivered in PLSS section GeoTiff and MrSID tiles and a project-wide MrSID mosaic. The orthoimagery was delivered according to a section tile schematic. Supplemental Information: The Wisconsin Regional Orthoimagery Consortium (WROC) is a multi-entity group of county members and partners led by representatives from Ayres Associates the North Central Wisconsin Regional Planning Commission (NCWRPC). The goal of the consortium is to build and sustain a multi-participant program to acquire digital orthoimagery and elevation data throughout Wisconsin. Orthoimagery was collected for Calumet County in 2018 to provide consistent deliverable products and accuracy standards for each of the participating entities.",
 "extent": {
  "xmin": 825423.198,
  "ymin": 424772.15,
  "xmax": 926474.698,
  "ymax": 558440.15,
  "spatialReference": {
   "wkid": 7594,
   "latestWkid": 7594
  }
 },
 "initialExtent": {
  "xmin": 825423.198,
  "ymin": 424772.15,
  "xmax": 926474.698,
  "ymax": 558440.15,
  "spatialReference": {
   "wkid": 7594,
   "latestWkid": 7594
  }
 },
 "fullExtent": {
  "xmin": 825423.198,
  "ymin": 424772.15,
  "xmax": 926474.698,
  "ymax": 558440.15,
  "spatialReference": {
   "wkid": 7594,
   "latestWkid": 7594
  }
 },
 "sortableFields": "",
 "bandCount": 5,
 "pixelType": "U8",
 "minValues": [
  0,
  0,
  0,
  0,
  0
 ],
 "maxValues": [
  188,
  162,
  144,
  255,
  255
 ],
 "meanValues": [
  79.726666666667,
  78.36696969697,
  65.899393939394,
  118.67636363636,
  185.15242424242
 ],
 "stdvValues": [
  52.230745193175,
  49.600075145645,
  41.623902656526,
  77.121262949319,
  111.28743609913
 ],
 "hasMultidimensions": false,
 "pixelSizeX": 0.5,
 "pixelSizeY": 0.5,
 "meanPixelSize": 0.15240030480060962,
 "datasetFormat": "MrSID",
 "uncompressedSize": 270147038040,
 "blockWidth": 1024,
 "blockHeight": 128,
 "compressionType": "Wavelet (MG4)",
 "bandNames": [
  "Band_1",
  "Band_2",
  "Band_3",
  "Band_4",
  "Band_5"
 ],
 "allowCopy": true,
 "allowAnalysis": true,
 "itemAccess": false,
 "inspectionCapabilities": "",
 "minPixelSize": 0.21701388888888887,
 "maxPixelSize": 217.01388888888889,
 "copyrightText": "",
 "serviceDataType": "esriImageServiceDataTypeGeneric",
 "serviceSourceType": "esriImageServiceSourceTypeDataset",
 "objectIdField": "",
 "fields": [],
 "capabilities": "Mensuration,Image,Metadata",
 "defaultMosaicMethod": "Center",
 "allowedMosaicMethods": "",
 "sortField": "",
 "sortValue": null,
 "sortAscending": true,
 "mosaicOperator": "First",
 "defaultCompressionQuality": 75,
 "defaultResamplingMethod": "Bilinear",
 "maxImageHeight": 16384,
 "maxImageWidth": 16384,
 "singleFusedMapCache": true,
 "tileInfo": {
  "rows": 256,
  "cols": 256,
  "dpi": 96,
  "format": "MIXED",
  "compressionQuality": 75,
  "origin": {
   "x": -17646100,
   "y": 1.7292199999999993E7
  },
  "spatialReference": {
   "wkt2": "COMPOUNDCRS[\"\",PROJCRS[\"NAD_1983_2011_WISCRS_Calumet_Fond_du_Lac_Outagamie_Winnebago_Feet\",BASEGEOGCRS[\"GCS_NAD_1983_2011\",DYNAMIC[FRAMEEPOCH[2010.0],MODEL[\"HTDP\"]],DATUM[\"D_NAD_1983_2011\",ELLIPSOID[\"GRS_1980\",6378137.0,298.257222101,LENGTHUNIT[\"Meter\",1.0]]],PRIMEM[\"Greenwich\",0.0,ANGLEUNIT[\"Degree\",0.0174532925199433]],CS[ellipsoidal,2],AXIS[\"Latitude (lat)\",north,ORDER[1]],AXIS[\"Longitude (lon)\",east,ORDER[2]],ANGLEUNIT[\"Degree\",0.0174532925199433]],CONVERSION[\"Transverse_Mercator\",METHOD[\"Transverse_Mercator\"],PARAMETER[\"False_Easting\",802999.999,LENGTHUNIT[\"Foot_US\",0.3048006096012192]],PARAMETER[\"False_Northing\",0.016,LENGTHUNIT[\"Foot_US\",0.3048006096012192]],PARAMETER[\"Central_Meridian\",-88.5,ANGLEUNIT[\"Degree\",0.0174532925199433]],PARAMETER[\"Scale_Factor\",1.0000286569,SCALEUNIT[\"Unity\",1.0]],PARAMETER[\"Latitude_Of_Origin\",42.71944444444445,ANGLEUNIT[\"Degree\",0.0174532925199433]]],CS[Cartesian,2],AXIS[\"Easting (X)\",east,ORDER[1]],AXIS[\"Northing (Y)\",north,ORDER[2]],LENGTHUNIT[\"Foot_US\",0.3048006096012192]],VERTCRS[\"VCS Name = NAVD88 height - Geoid12B (ftUS)|Datum Name = North American Vertical\",VDATUM[\"North American Vertical Datum 1988\"],CS[vertical,1],AXIS[\"Gravity-related height (H)\",up,LENGTHUNIT[\"US survey foot\",0.3048006096012192]]]]",
   "wkt": "PROJCS[\"NAD_1983_2011_WISCRS_Calumet_Fond_du_Lac_Outagamie_Winnebago_Feet\",GEOGCS[\"GCS_NAD_1983_2011\",DATUM[\"D_NAD_1983_2011\",SPHEROID[\"GRS_1980\",6378137.0,298.257222101]],PRIMEM[\"Greenwich\",0.0],UNIT[\"Degree\",0.0174532925199433]],PROJECTION[\"Transverse_Mercator\"],PARAMETER[\"False_Easting\",802999.999],PARAMETER[\"False_Northing\",0.016],PARAMETER[\"Central_Meridian\",-88.5],PARAMETER[\"Scale_Factor\",1.0000286569],PARAMETER[\"Latitude_Of_Origin\",42.71944444444445],UNIT[\"Foot_US\",0.3048006096012192]],VERTCS[\"VCS Name = NAVD88 height - Geoid12B (ftUS)|Datum Name = North American Vertical\",VDATUM[\"North American Vertical Datum 1988\"],PARAMETER[\"Vertical_Shift\",0.0],PARAMETER[\"Direction\",1.0],UNIT[\"US survey foot\",0.3048006096012192]]"
  },
  "lods": [
   {
    "level": 0,
    "resolution": 217.01388888888889,
    "scale": 250000
   },
   {
    "level": 1,
    "resolution": 108.50694444444444,
    "scale": 125000
   },
   {
    "level": 2,
    "resolution": 55.55555555555555,
    "scale": 64000
   },
   {
    "level": 3,
    "resolution": 27.777777777777775,
    "scale": 32000
   },
   {
    "level": 4,
    "resolution": 13.888888888888888,
    "scale": 16000
   },
   {
    "level": 5,
    "resolution": 6.944444444444444,
    "scale": 8000
   },
   {
    "level": 6,
    "resolution": 3.472222222222222,
    "scale": 4000
   },
   {
    "level": 7,
    "resolution": 1.736111111111111,
    "scale": 2000
   },
   {
    "level": 8,
    "resolution": 0.8680555555555555,
    "scale": 1000
   },
   {
    "level": 9,
    "resolution": 0.43402777777777773,
    "scale": 500
   },
   {
    "level": 10,
    "resolution": 0.21701388888888887,
    "scale": 250
   }
  ]
 },
 "storageInfo": {
  "storageFormat": "esriMapCacheStorageModeCompactV2",
  "packetSize": 128
 },
 "cacheType": "Map",
 "allowRasterFunction": true,
 "rasterFunctionInfos": [
  {
   "name": "None",
   "description": "",
   "help": ""
  }
 ],
 "rasterTypeInfos": [
  {
   "name": "Raster Dataset",
   "description": "Supports all ArcGIS Raster Datasets",
   "help": ""
  }
 ],
 "mensurationCapabilities": "Basic",
 "hasHistograms": true,
 "hasColormap": false,
 "hasRasterAttributeTable": false,
 "minScale": 250000,
 "maxScale": 250,
 "minLOD": 0,
 "maxLOD": 10,
 "exportTilesAllowed": false,
 "supportsStatistics": false,
 "supportsAdvancedQueries": false,
 "editFieldsInfo": null,
 "ownershipBasedAccessControlForRasters": null,
 "allowComputeTiePoints": false,
 "useStandardizedQueries": true,
 "advancedQueryCapabilities": {
  "useStandardizedQueries": true,
  "supportsStatistics": false,
  "supportsOrderBy": false,
  "supportsDistinct": false,
  "supportsPagination": false
 },
 "spatialReference": {
  "wkid": 7594,
  "latestWkid": 7594
 },
 "resampling": false
}
